BEGIN:VCALENDAR
VERSION:2.0
PRODID:-//https://capri.discovercampania.it///NONSGML kigkonsult.se iCalcreator 2.10.15//
METHOD:PUBLISH
BEGIN:VEVENT
UID:20260424T010920CEST-2381WWxMg1@https://capri.discovercampania.it/
DTSTAMP:20260423T230920Z
DESCRIPTION:Sabato 29 marzo apre eccezionalmente al pubblico 'Allifae roman
 a'\, la città della provincia di Caserta che può vantare importanti vestig
 ia di epoca romana\, a cominciare dalle mura. Per l'occasione\, durante la
  mattinata saranno aperti eccezionalmente al pubblico il criptoportico\, l
 'anfiteatro e il mausoleo romani. https://capri.discovercampania.it/compon
 ent/rseventspro/Evento/1653-allifae-romana-apertura-straordinaria-siti-arc
 heologici-di-alife?Itemid=231
DTSTART:20260328T230900Z
DTEND:20260328T231300Z
LOCATION:Alife (piazza della Liberazione\, 81011)
SUMMARY:Allifae romana-apertura straordinaria siti archeologici di Alife
URL:https://capri.discovercampania.it/component/rseventspro/Evento/1653-all
 ifae-romana-apertura-straordinaria-siti-archeologici-di-alife?Itemid=231
END:VEVENT
END:VCALENDAR
