BEGIN:VCALENDAR
VERSION:2.0
PRODID:-//https://capri.discovercampania.it///NONSGML kigkonsult.se iCalcreator 2.10.15//
METHOD:PUBLISH
BEGIN:VEVENT
UID:20260423T200704CEST-18440StEDV@https://capri.discovercampania.it/
DTSTAMP:20260423T180704Z
DESCRIPTION:Giovedì 3 luglio attesa esibizione della Oxford University Jazz
  Orchestra per i concerti estivi al Teatro Greco dei Giardini La Mortella 
 di Forio\, sull'isola d'Ischia. L'apprezzata orchestra eseguirà brani del 
 repertorio classico firmati da Duke Ellington e Count Basie e composizioni
  contemporanee di Jakob Mann e Snarky Puppy. Con il valore aggiunto della 
 magnifica voce della cantante e compositrice Phoebe Blue. https://capri.di
 scovercampania.it/component/rseventspro/Evento/1613-i-concerti-al-teatro-g
 reco-della-mortella-a-ischia?Itemid=231
DTSTART:20250703T200000Z
DTEND:20250703T210000Z
LOCATION:Giardini la Mortella di Ischia (Giardini La Mortella\, Via Frances
 co Calise Operaio Foriano\, 45\, 80075 Forio NA\, Italia)
SUMMARY:I concerti al Teatro Greco della Mortella a Ischia
URL:https://capri.discovercampania.it/component/rseventspro/Evento/1613-i-c
 oncerti-al-teatro-greco-della-mortella-a-ischia?Itemid=231
END:VEVENT
END:VCALENDAR
