BEGIN:VCALENDAR
VERSION:2.0
PRODID:-//https://capri.discovercampania.it///NONSGML kigkonsult.se iCalcreator 2.10.15//
METHOD:PUBLISH
BEGIN:VEVENT
UID:20260423T101014CEST-75563wD7NT@https://capri.discovercampania.it/
DTSTAMP:20260423T081014Z
DESCRIPTION: https://capri.discovercampania.it/component/rseventspro/Evento
 /1568-a-napoli-miserere?Itemid=231
DTSTART:20250413T170000Z
DTEND:20250413T190000Z
LOCATION:Via Santa Chiara\, 10\, 80134 Napoli NA\, Italia (Via Santa Chiara
 \, 10\, 80134 Napoli NA\, Italia)
SUMMARY:A Napoli 'Miserere'
URL:https://capri.discovercampania.it/component/rseventspro/Evento/1568-a-n
 apoli-miserere?Itemid=231
END:VEVENT
END:VCALENDAR
