BEGIN:VCALENDAR
VERSION:2.0
PRODID:-//https://capri.discovercampania.it///NONSGML kigkonsult.se iCalcreator 2.10.15//
METHOD:PUBLISH
BEGIN:VEVENT
UID:20260424T192839CEST-9651FOnz3v@https://capri.discovercampania.it/
DTSTAMP:20260424T172839Z
DESCRIPTION: https://capri.discovercampania.it/component/rseventspro/Evento
 /1565-a-misciano-di-montoro-la-passione-di-cristo?Itemid=231
DTSTART:20250413T160000Z
DTEND:20250413T170000Z
LOCATION:Misciano di Montoro  Avellino ()
SUMMARY:A Misciano di Montoro 'La Passione di Cristo'
URL:https://capri.discovercampania.it/component/rseventspro/Evento/1565-a-m
 isciano-di-montoro-la-passione-di-cristo?Itemid=231
END:VEVENT
END:VCALENDAR
